BEGIN:VCALENDAR
PRODID:-//AT Content Types//AT Event//EN
VERSION:1.0
BEGIN:VEVENT
DTSTART:20241218T083000Z
DTEND:20250518T120000Z
DCREATED:20250128T162210Z
UID:ATEvent-5fb8724fd9b043d08380d11b81db0026
SEQUENCE:0
LAST-MODIFIED:20250319T084802Z
SUMMARY:Exposició fotogràfica "Una mirada sostenible"
LOCATION:MW Museu de l'Electricitat
PRIORITY:3
TRANSP:0
END:VEVENT
END:VCALENDAR
