BEGIN:VCALENDAR
PRODID:-//AT Content Types//AT Event//EN
VERSION:2.0
METHOD:PUBLISH
BEGIN:VEVENT
DTSTAMP:20260423T084547Z
CREATED:20240903T125352Z
UID:ATEvent-de0f3e8f19ee4ab0b7e41ddcbd1dd2c8
LAST-MODIFIED:20240903T132910Z
SUMMARY:Observació de papallones al voltant del llac d’Engolasters
DTSTART:20240914T083000Z
DTEND:20240914T113000Z
DESCRIPTION:¿Sabies que encara podem trobar papallones volant al sete
 mbre? En aquesta sortida a l’entorn del llac d’Engolasters\, inves
 tigadors d’Andorra Recerca + Innovació ens explicaran diversos aspe
 ctes del cicle de vida d’aquests insectes i com es preparen per afro
 ntar els mesos de fred. Així mateix\, coneixerem quins factors les af
 avoreixen i podrem tenir més recursos per si a casa nostra tenim l’
 oportunitat de muntar un “jardí de papallones”.
LOCATION:Camí hidroelèctric d'Engolasters
CONTACT:FEDA Cultura\, 739111\, fedacultura@feda.ad
CLASS:PUBLIC
END:VEVENT
END:VCALENDAR
