BEGIN:VCALENDAR
PRODID:-//AT Content Types//AT Event//EN
VERSION:2.0
METHOD:PUBLISH
BEGIN:VEVENT
DTSTAMP:20260420T033614Z
CREATED:20231107T152956Z
UID:ATEvent-3f6c739a429c4f40b8d20e71cbfd98ab
LAST-MODIFIED:20231205T112937Z
SUMMARY:Visita guiada de l'exposició "La sisena extinció"
DTSTART:20240609T100000Z
DTEND:20240609T103000Z
DESCRIPTION:"La sisena extinció"\, vine a la visita comentada d'una m
 ostra fotogràfica colpidora i essencial per a abordar el problema de 
 la pèrdua de biodiversitat.
LOCATION:MW museu de l'electricitat
CLASS:PUBLIC
END:VEVENT
END:VCALENDAR
